BEGIN:VCALENDAR
VERSION:2.0
PRODID:GIGPRESS 2.0 WORDPRESS PLUGIN
CALSCALE:GREGORIAN
X-WR-TIMEZONE:Etc/GMT
METHOD:PUBLISH
BEGIN:VTIMEZONE
TZID:GMT
BEGIN:STANDARD
DTSTART:20071028T010000
TZOFFSETTO:+0000
TZOFFSETFROM:+0000
END:STANDARD
END:VTIMEZONE
BEGIN:VEVENT
SUMMARY:Ingo Appelt \, Tonhalle
DESCRIPTION:Tour: Bühne. Anmerkungen: Mix "Comedy Festival - Stars aus 3 Ländern" 
LOCATION:Tonhalle\, Museumstrasse 25\, St. Gallen\, CH
UID:20260521T180000Z-8165-atelier@grafik-und-redaktion.de
URL:https://ingoappelt.de
DTSTART;VALUE=DATE-TIME;TZID=GMT:20260521T180000Z
DTEND;VALUE=DATE-TIME;TZID=GMT:20260521T180000Z
DTSTAMP:20260423T084852Z
END:VEVENT
END:VCALENDAR