BEGIN:VCALENDAR
VERSION:2.0
PRODID:GIGPRESS 2.0 WORDPRESS PLUGIN
CALSCALE:GREGORIAN
X-WR-TIMEZONE:Etc/GMT
METHOD:PUBLISH
BEGIN:VTIMEZONE
TZID:GMT
BEGIN:STANDARD
DTSTART:20071028T010000
TZOFFSETTO:+0000
TZOFFSETFROM:+0000
END:STANDARD
END:VTIMEZONE
BEGIN:VEVENT
SUMMARY:Ingo Appelt \, Kulturwerkstatt Disharmonie
DESCRIPTION:Tour: Bühne. 
LOCATION:Kulturwerkstatt Disharmonie\, Gutermann-Promenade 7\, Schweinfurt\, DE
UID:20270129T183000Z-8159-atelier@grafik-und-redaktion.de
URL:https://ingoappelt.de
DTSTART;VALUE=DATE-TIME;TZID=GMT:20270129T183000Z
DTEND;VALUE=DATE-TIME;TZID=GMT:20270129T183000Z
DTSTAMP:20260423T084601Z
END:VEVENT
END:VCALENDAR