BEGIN:VCALENDAR
VERSION:2.0
PRODID:GIGPRESS 2.0 WORDPRESS PLUGIN
CALSCALE:GREGORIAN
X-WR-TIMEZONE:Etc/GMT
METHOD:PUBLISH
BEGIN:VTIMEZONE
TZID:GMT
BEGIN:STANDARD
DTSTART:20071028T010000
TZOFFSETTO:+0000
TZOFFSETFROM:+0000
END:STANDARD
END:VTIMEZONE
BEGIN:VEVENT
SUMMARY:Ingo Appelt \, Scala Club
DESCRIPTION:Tour: Bühne. 
LOCATION:Scala Club\, Uhlandstraße 9\, Leverkusen-Opladen\, DE
UID:20261218T190000Z-8138-atelier@grafik-und-redaktion.de
URL:https://ingoappelt.de
DTSTART;VALUE=DATE-TIME;TZID=GMT:20261218T190000Z
DTEND;VALUE=DATE-TIME;TZID=GMT:20261218T190000Z
DTSTAMP:20260419T124838Z
END:VEVENT
END:VCALENDAR