BEGIN:VCALENDAR
VERSION:2.0
PRODID:GIGPRESS 2.0 WORDPRESS PLUGIN
CALSCALE:GREGORIAN
X-WR-TIMEZONE:Etc/GMT
METHOD:PUBLISH
BEGIN:VTIMEZONE
TZID:GMT
BEGIN:STANDARD
DTSTART:20071028T010000
TZOFFSETTO:+0000
TZOFFSETFROM:+0000
END:STANDARD
END:VTIMEZONE
BEGIN:VEVENT
SUMMARY:Ingo Appelt \, Alter Gasometer
DESCRIPTION:Tour: Bühne. Anmerkungen: Verlegung vom 21.11.2026. Bereits gekaufte Karten behalten ihre Gültigkeit. 
LOCATION:Alter Gasometer\, Kleine Biergasse 3\, Zwickau\, DE
UID:20270515T180000Z-7958-atelier@grafik-und-redaktion.de
URL:https://ingoappelt.de
DTSTART;VALUE=DATE-TIME;TZID=GMT:20270515T180000Z
DTEND;VALUE=DATE-TIME;TZID=GMT:20270515T180000Z
DTSTAMP:20260423T084509Z
END:VEVENT
END:VCALENDAR